View In:
ArcGIS JavaScript
ArcGIS Online Map Viewer
ArcGIS Earth
ArcMap
View Footprint In:
ArcGIS Online Map Viewer
Service Description: For more information, visit https://www.isas.illinois.edu/research_2/climate_change_and_erosion_modeling
Name: ISAS/ICCMI_erosion_index_ln
Description: For more information, visit https://www.isas.illinois.edu/research_2/climate_change_and_erosion_modeling
Single Fused Map Cache: false
Extent:
XMin: 624822.8328999998
YMin: 4097182.419500001
XMax: 980442.8328999998
YMax: 4718632.419500001
Spatial Reference: 26915
(26915)
Initial Extent:
XMin: 624822.8328999998
YMin: 4097182.419500001
XMax: 980442.8328999998
YMax: 4718632.419500001
Spatial Reference: 26915
(26915)
Full Extent:
XMin: 624822.8328999998
YMin: 4097182.419500001
XMax: 980442.8328999998
YMax: 4718632.419500001
Spatial Reference: 26915
(26915)
Pixel Size X: 30.0
Pixel Size Y: 30.0
Band Count: 1
Pixel Type: F32
RasterFunction Infos: {"rasterFunctionInfos": [{
"name": "None",
"description": "",
"help": ""
}]}
Mensuration Capabilities: Basic
Has Histograms: true
Has Colormap: false
Has Multi Dimensions : false
Rendering Rule:
Min Scale: 0
Max Scale: 0
Copyright Text:
Service Data Type: esriImageServiceDataTypeGeneric
Min Values: -18.376382827759
Max Values: 13.696885108948
Mean Values: 4.2856918431633
Standard Deviation Values: 2.2169336691507
Object ID Field:
Fields:
None
Default Mosaic Method: Center
Allowed Mosaic Methods:
SortField:
SortValue: null
Mosaic Operator: First
Default Compression Quality: 90
Default Resampling Method: Nearest
Max Record Count: null
Max Image Height: 4100
Max Image Width: 15000
Max Download Image Count: null
Max Mosaic Image Count: null
Allow Raster Function: true
Allow Copy: true
Allow Analysis: true
Allow Compute TiePoints: false
Supports Statistics: false
Supports Advanced Queries: false
Use StandardizedQueries: true
Raster Type Infos:
Name: Raster Dataset
Description: Supports all ArcGIS Raster Datasets
Help:
Has Raster Attribute Table: false
Edit Fields Info: null
Ownership Based AccessControl For Rasters: null
Child Resources:
Info
Histograms
Statistics
Key Properties
Legend
Raster Function Infos
Supported Operations:
Export Image
Identify
Measure
Compute Histograms
Compute Statistics Histograms
Get Samples
Compute Class Statistics
Query Boundary
Compute Pixel Location
Validate
Project