{ "currentVersion": 10.9, "serviceDescription": "
For more information, visit https://www.isas.illinois.edu/research_2/climate_change_and_erosion_modeling<\/SPAN><\/P><\/DIV><\/DIV>",
"name": "ISAS/ICCMI_erosion_index_ln",
"description": " For more information, visit https://www.isas.illinois.edu/research_2/climate_change_and_erosion_modeling<\/SPAN><\/P><\/DIV><\/DIV>",
"extent": {
"xmin": 624822.8328999998,
"ymin": 4097182.419500001,
"xmax": 980442.8328999998,
"ymax": 4718632.419500001,
"spatialReference": {
"wkid": 26915,
"latestWkid": 26915
}
},
"initialExtent": {
"xmin": 624822.8328999998,
"ymin": 4097182.419500001,
"xmax": 980442.8328999998,
"ymax": 4718632.419500001,
"spatialReference": {
"wkid": 26915,
"latestWkid": 26915
}
},
"fullExtent": {
"xmin": 624822.8328999998,
"ymin": 4097182.419500001,
"xmax": 980442.8328999998,
"ymax": 4718632.419500001,
"spatialReference": {
"wkid": 26915,
"latestWkid": 26915
}
},
"hasMultidimensions": false,
"pixelSizeX": 30,
"pixelSizeY": 30,
"datasetFormat": "TIFF",
"uncompressedSize": 982222440,
"blockWidth": 128,
"blockHeight": 128,
"compressionType": "None",
"bandNames": [
"Band_1"
],
"allowCopy": true,
"allowAnalysis": true,
"bandCount": 1,
"noDataValue": -3.4028234663852886E38,
"noDataValues": [
-3.4028234663852886E38
],
"pixelType": "F32",
"minPixelSize": 0,
"maxPixelSize": 0,
"copyrightText": "",
"serviceDataType": "esriImageServiceDataTypeGeneric",
"serviceSourceType": "esriImageServiceSourceTypeDataset",
"minValues": [
-18.376382827759
],
"maxValues": [
13.696885108948
],
"meanValues": [
4.2856918431633
],
"stdvValues": [
2.2169336691507
],
"objectIdField": "",
"fields": [],
"capabilities": "Image,Metadata,Mensuration",
"defaultMosaicMethod": "Center",
"allowedMosaicMethods": "",
"sortField": "",
"sortValue": null,
"sortAscending": true,
"mosaicOperator": "First",
"defaultCompressionQuality": 90,
"defaultResamplingMethod": "Nearest",
"maxImageHeight": 4100,
"maxImageWidth": 15000,
"allowRasterFunction": true,
"rasterFunctionInfos": [
{
"name": "None",
"description": "",
"help": ""
}
],
"rasterTypeInfos": [
{
"name": "Raster Dataset",
"description": "Supports all ArcGIS Raster Datasets",
"help": ""
}
],
"mensurationCapabilities": "Basic",
"hasHistograms": true,
"hasColormap": false,
"hasRasterAttributeTable": false,
"minScale": 0,
"maxScale": 0,
"exportTilesAllowed": false,
"supportsStatistics": false,
"supportsAdvancedQueries": false,
"editFieldsInfo": null,
"ownershipBasedAccessControlForRasters": null,
"allowComputeTiePoints": false,
"useStandardizedQueries": true,
"advancedQueryCapabilities": {
"useStandardizedQueries": true,
"supportsStatistics": false,
"supportsOrderBy": false,
"supportsDistinct": false,
"supportsPagination": false
},
"spatialReference": {
"wkid": 26915,
"latestWkid": 26915
}
}