View In:
ArcGIS JavaScript
ArcGIS Online Map Viewer
ArcGIS Earth
ArcMap
View Footprint In:
ArcGIS Online Map Viewer
Service Description: CCS_Play/Subsurface_SealGeometry_NewAlbany
Name: CCS_Play/Subsurface_SealGeometry_NewAlbany
Description:
Single Fused Map Cache: false
Extent:
XMin: 118063.41653319733
YMin: 4092300.1004072316
XMax: 457063.41653319733
YMax: 4712800.100407232
Spatial Reference: 26916
(26916)
Initial Extent:
XMin: 118063.41653319733
YMin: 4092300.1004072316
XMax: 457063.41653319733
YMax: 4712800.100407232
Spatial Reference: 26916
(26916)
Full Extent:
XMin: 118063.41653319733
YMin: 4092300.1004072316
XMax: 457063.41653319733
YMax: 4712800.100407232
Spatial Reference: 26916
(26916)
Pixel Size X: 500.0
Pixel Size Y: 500.0
Band Count: 1
Pixel Type: F64
RasterFunction Infos: {"rasterFunctionInfos": [{
"name": "None",
"description": "",
"help": ""
}]}
Mensuration Capabilities: Basic
Has Histograms: true
Has Colormap: false
Has Multi Dimensions : false
Rendering Rule:
Min Scale: 0
Max Scale: 0
Copyright Text:
Service Data Type: esriImageServiceDataTypeGeneric
Min Values: -3.787
Max Values: 404.3212
Mean Values: 151.9544821324578
Standard Deviation Values: 75.42651775890769
Object ID Field:
Fields:
None
Default Mosaic Method: Center
Allowed Mosaic Methods:
SortField:
SortValue: null
Mosaic Operator: First
Default Compression Quality: 75
Default Resampling Method: Bilinear
Max Record Count: null
Max Image Height: 4100
Max Image Width: 15000
Max Download Image Count: null
Max Mosaic Image Count: null
Allow Raster Function: true
Allow Copy: true
Allow Analysis: true
Allow Compute TiePoints: false
Supports Statistics: false
Supports Advanced Queries: false
Use StandardizedQueries: true
Raster Type Infos:
Name: Raster Dataset
Description: Supports all ArcGIS Raster Datasets
Help:
Has Raster Attribute Table: false
Edit Fields Info: null
Ownership Based AccessControl For Rasters: null
Child Resources:
Info
Histograms
Statistics
Key Properties
Legend
Raster Function Infos
Supported Operations:
Export Image
Identify
Measure
Compute Histograms
Compute Statistics Histograms
Get Samples
Compute Class Statistics
Query Boundary
Compute Pixel Location
Validate
Project