{
 "currentVersion": 10.9,
 "serviceDescription": "CCS_Play/Subsurface_SealGeometry_NewAlbany",
 "name": "CCS_Play/Subsurface_SealGeometry_NewAlbany",
 "description": "",
 "extent": {
  "xmin": 118063.41653319733,
  "ymin": 4092300.1004072316,
  "xmax": 457063.41653319733,
  "ymax": 4712800.100407232,
  "spatialReference": {
   "wkid": 26916,
   "latestWkid": 26916
  }
 },
 "initialExtent": {
  "xmin": 118063.41653319733,
  "ymin": 4092300.1004072316,
  "xmax": 457063.41653319733,
  "ymax": 4712800.100407232,
  "spatialReference": {
   "wkid": 26916,
   "latestWkid": 26916
  }
 },
 "fullExtent": {
  "xmin": 118063.41653319733,
  "ymin": 4092300.1004072316,
  "xmax": 457063.41653319733,
  "ymax": 4712800.100407232,
  "spatialReference": {
   "wkid": 26916,
   "latestWkid": 26916
  }
 },
 "hasMultidimensions": false,
 "pixelSizeX": 500,
 "pixelSizeY": 500,
 "datasetFormat": "FGDBR",
 "uncompressedSize": 6731184,
 "blockWidth": 128,
 "blockHeight": 128,
 "compressionType": "NONE",
 "bandNames": [
  "Band_1"
 ],
 "allowCopy": true,
 "allowAnalysis": true,
 "bandCount": 1,
 "pixelType": "F64",
 "minPixelSize": 0,
 "maxPixelSize": 0,
 "copyrightText": "",
 "serviceDataType": "esriImageServiceDataTypeGeneric",
 "serviceSourceType": "esriImageServiceSourceTypeDataset",
 "minValues": [
  -3.787
 ],
 "maxValues": [
  404.3212
 ],
 "meanValues": [
  151.9544821324578
 ],
 "stdvValues": [
  75.42651775890769
 ],
 "objectIdField": "",
 "fields": [],
 "capabilities": "Image,Metadata,Mensuration",
 "defaultMosaicMethod": "Center",
 "allowedMosaicMethods": "",
 "sortField": "",
 "sortValue": null,
 "sortAscending": true,
 "mosaicOperator": "First",
 "defaultCompressionQuality": 75,
 "defaultResamplingMethod": "Bilinear",
 "maxImageHeight": 4100,
 "maxImageWidth": 15000,
 "allowRasterFunction": true,
 "rasterFunctionInfos": [
  {
   "name": "None",
   "description": "",
   "help": ""
  }
 ],
 "rasterTypeInfos": [
  {
   "name": "Raster Dataset",
   "description": "Supports all ArcGIS Raster Datasets",
   "help": ""
  }
 ],
 "mensurationCapabilities": "Basic",
 "hasHistograms": true,
 "hasColormap": false,
 "hasRasterAttributeTable": false,
 "minScale": 0,
 "maxScale": 0,
 "exportTilesAllowed": false,
 "supportsStatistics": false,
 "supportsAdvancedQueries": false,
 "editFieldsInfo": null,
 "ownershipBasedAccessControlForRasters": null,
 "allowComputeTiePoints": false,
 "useStandardizedQueries": true,
 "advancedQueryCapabilities": {
  "useStandardizedQueries": true,
  "supportsStatistics": false,
  "supportsOrderBy": false,
  "supportsDistinct": false,
  "supportsPagination": false
 },
 "spatialReference": {
  "wkid": 26916,
  "latestWkid": 26916
 }
}
