View In:
ArcGIS JavaScript
ArcGIS Online Map Viewer
ArcGIS Earth
ArcMap
View Footprint In:
ArcGIS Online Map Viewer
Service Description: Data Assistant (v3.1) output
Import Type: ZMap Grid
Input File: D:\OneDrive\GIS\MRCI_Maps\210617_TOP_GALENA
Name: CCS_Play/Subsurface_Depth_Galena
Description: Data Assistant (v3.1) output
Import Type: ZMap Grid
Input File: D:\OneDrive\GIS\MRCI_Maps\210617_TOP_GALENA
Single Fused Map Cache: false
Extent:
XMin: 118230.47775825433
YMin: 4093576.860619783
XMax: 457168.0777582543
YMax: 4712930.460619783
Spatial Reference: 26916
(26916)
Initial Extent:
XMin: 118230.47775825433
YMin: 4093576.860619783
XMax: 457168.0777582543
YMax: 4712930.460619783
Spatial Reference: 26916
(26916)
Full Extent:
XMin: 118230.47775825433
YMin: 4093576.860619783
XMax: 457168.0777582543
YMax: 4712930.460619783
Spatial Reference: 26916
(26916)
Pixel Size X: 2438.3999999999996
Pixel Size Y: 2438.4000000000005
Band Count: 1
Pixel Type: F32
RasterFunction Infos: {"rasterFunctionInfos": [{
"name": "None",
"description": "",
"help": ""
}]}
Mensuration Capabilities: Basic
Has Histograms: true
Has Colormap: false
Has Multi Dimensions : false
Rendering Rule:
Min Scale: 0
Max Scale: 0
Copyright Text:
Service Data Type: esriImageServiceDataTypeGeneric
Min Values: 0
Max Values: 986.9758911132812
Mean Values: 57.67568128899058
Standard Deviation Values: 156.16653411251374
Object ID Field:
Fields:
None
Default Mosaic Method: Center
Allowed Mosaic Methods:
SortField:
SortValue: null
Mosaic Operator: First
Default Compression Quality: 75
Default Resampling Method: Bilinear
Max Record Count: null
Max Image Height: 4100
Max Image Width: 15000
Max Download Image Count: null
Max Mosaic Image Count: null
Allow Raster Function: true
Allow Copy: true
Allow Analysis: true
Allow Compute TiePoints: false
Supports Statistics: false
Supports Advanced Queries: false
Use StandardizedQueries: true
Raster Type Infos:
Name: Raster Dataset
Description: Supports all ArcGIS Raster Datasets
Help:
Has Raster Attribute Table: false
Edit Fields Info: null
Ownership Based AccessControl For Rasters: null
Child Resources:
Info
Histograms
Statistics
Key Properties
Legend
Raster Function Infos
Supported Operations:
Export Image
Identify
Measure
Compute Histograms
Compute Statistics Histograms
Get Samples
Compute Class Statistics
Query Boundary
Compute Pixel Location
Validate
Project