{
"currentVersion": 10.9,
"serviceDescription": "Data Assistant (v3.1) output
Import Type: ZMap Grid
Input File: D:\\OneDrive\\GIS\\MRCI_Maps\\210617_TOP_GALENA",
"name": "CCS_Play/Subsurface_Depth_Galena",
"description": "Data Assistant (v3.1) output
Import Type: ZMap Grid
Input File: D:\\OneDrive\\GIS\\MRCI_Maps\\210617_TOP_GALENA",
"extent": {
"xmin": 118230.47775825433,
"ymin": 4093576.860619783,
"xmax": 457168.0777582543,
"ymax": 4712930.460619783,
"spatialReference": {
"wkid": 26916,
"latestWkid": 26916
}
},
"initialExtent": {
"xmin": 118230.47775825433,
"ymin": 4093576.860619783,
"xmax": 457168.0777582543,
"ymax": 4712930.460619783,
"spatialReference": {
"wkid": 26916,
"latestWkid": 26916
}
},
"fullExtent": {
"xmin": 118230.47775825433,
"ymin": 4093576.860619783,
"xmax": 457168.0777582543,
"ymax": 4712930.460619783,
"spatialReference": {
"wkid": 26916,
"latestWkid": 26916
}
},
"hasMultidimensions": false,
"pixelSizeX": 2438.3999999999996,
"pixelSizeY": 2438.4000000000005,
"datasetFormat": "FGDBR",
"uncompressedSize": 140668,
"blockWidth": 128,
"blockHeight": 128,
"compressionType": "NONE",
"bandNames": [
"Band_1"
],
"allowCopy": true,
"allowAnalysis": true,
"bandCount": 1,
"pixelType": "F32",
"minPixelSize": 0,
"maxPixelSize": 0,
"copyrightText": "",
"serviceDataType": "esriImageServiceDataTypeGeneric",
"serviceSourceType": "esriImageServiceSourceTypeDataset",
"minValues": [
0
],
"maxValues": [
986.9758911132812
],
"meanValues": [
57.67568128899058
],
"stdvValues": [
156.16653411251374
],
"objectIdField": "",
"fields": [],
"capabilities": "Image,Metadata,Mensuration",
"defaultMosaicMethod": "Center",
"allowedMosaicMethods": "",
"sortField": "",
"sortValue": null,
"sortAscending": true,
"mosaicOperator": "First",
"defaultCompressionQuality": 75,
"defaultResamplingMethod": "Bilinear",
"maxImageHeight": 4100,
"maxImageWidth": 15000,
"allowRasterFunction": true,
"rasterFunctionInfos": [
{
"name": "None",
"description": "",
"help": ""
}
],
"rasterTypeInfos": [
{
"name": "Raster Dataset",
"description": "Supports all ArcGIS Raster Datasets",
"help": ""
}
],
"mensurationCapabilities": "Basic",
"hasHistograms": true,
"hasColormap": false,
"hasRasterAttributeTable": false,
"minScale": 0,
"maxScale": 0,
"exportTilesAllowed": false,
"supportsStatistics": false,
"supportsAdvancedQueries": false,
"editFieldsInfo": null,
"ownershipBasedAccessControlForRasters": null,
"allowComputeTiePoints": false,
"useStandardizedQueries": true,
"advancedQueryCapabilities": {
"useStandardizedQueries": true,
"supportsStatistics": false,
"supportsOrderBy": false,
"supportsDistinct": false,
"supportsPagination": false
},
"spatialReference": {
"wkid": 26916,
"latestWkid": 26916
}
}