View In:
ArcGIS JavaScript
ArcGIS Online Map Viewer
ArcGIS Earth
ArcMap
View Footprint In:
ArcGIS Online Map Viewer
Service Description: The Illinois Archaeological Predictive Model (IAPM) is a GIS-based tool developed by the Illinois State Archaeological Survey (ISAS), part of the Prairie Research Institute at the University of Illinois at Urbana-Champaign. The model builds on over a century of archaeological work in Illinois, and considers the known locations of prehistoric Native American sites, landforms that lack archaeological sites, and other environmental and geophysical variables such as elevation, distance to rivers and streams, and native vegetation. Data sampled from these locations are analyzed via GIS (Geographic Information Systems) and fed into a TensorFlow neural network (a machine learning algorithm) to predict the probability of encountering an archaeological site in every two acre square (90 x 90 meter cells) across the state.
ISAS and other interested stakeholders use the IAPM to help protect, preserve, and assess the potential impact to irreplaceable and non-renewable archaeological resources within the context of Illinois’ need to encourage and promote sustainable development. Using the IAPM helps archaeologists prioritize time and resources during surveys, and allows us to make recommendations that prevent or mitigate impacts to the archaeological record. It also has the potential to enable ordinary citizens, managers, developers, and preservationists to become proactive planners when it comes to the archaeological resources of Illinois.
Version 3.6 of the IAPM (2025). For more information, visit https://www.isas.illinois.edu/office_of_the_illinois_state_archaeologist/illinois_archaeological_predictive_model
Name: ISAS/IAPM_probability
Description:
Single Fused Map Cache: false
Extent:
XMin: 626518.29984953
YMin: 4098399.80047975
XMax: 978508.29984953
YMax: 4717599.80047975
Spatial Reference: 26915
(26915)
Initial Extent:
XMin: 626518.29984953
YMin: 4098399.80047975
XMax: 978508.29984953
YMax: 4717599.80047975
Spatial Reference: 26915
(26915)
Full Extent:
XMin: 626518.29984953
YMin: 4098399.80047975
XMax: 978508.29984953
YMax: 4717599.80047975
Spatial Reference: 26915
(26915)
Pixel Size X: 90.0
Pixel Size Y: 90.0
Band Count: 1
Pixel Type: F32
RasterFunction Infos: {"rasterFunctionInfos": [{
"name": "None",
"description": "",
"help": ""
}]}
Mensuration Capabilities: Basic
Has Histograms: true
Has Colormap: false
Has Multi Dimensions : false
Rendering Rule:
Min Scale: 0
Max Scale: 0
Copyright Text:
Service Data Type: esriImageServiceDataTypeGeneric
Min Values: 1.2260107790902E-23
Max Values: 1
Mean Values: 0.29178532380884
Standard Deviation Values: 0.36318605347207
Object ID Field:
Fields:
None
Default Mosaic Method: Center
Allowed Mosaic Methods:
SortField:
SortValue: null
Mosaic Operator: First
Default Compression Quality: 90
Default Resampling Method: Nearest
Max Record Count: null
Max Image Height: 4100
Max Image Width: 15000
Max Download Image Count: null
Max Mosaic Image Count: null
Allow Raster Function: true
Allow Copy: true
Allow Analysis: true
Allow Compute TiePoints: false
Supports Statistics: false
Supports Advanced Queries: false
Use StandardizedQueries: true
Raster Type Infos:
Name: Raster Dataset
Description: Supports all ArcGIS Raster Datasets
Help:
Has Raster Attribute Table: false
Edit Fields Info: null
Ownership Based AccessControl For Rasters: null
Child Resources:
Info
Histograms
Statistics
Key Properties
Legend
Raster Function Infos
Supported Operations:
Export Image
Identify
Measure
Compute Histograms
Compute Statistics Histograms
Get Samples
Compute Class Statistics
Query Boundary
Compute Pixel Location
Validate
Project