View In:
ArcGIS JavaScript
ArcGIS Online Map Viewer
ArcGIS Earth
ArcMap
View Footprint In:
ArcGIS Online Map Viewer
Service Description: CCS_Play/Subsurface_Thickness_MtSimon
Name: CCS_Play/Subsurface_Thickness_MtSimon
Description:
Single Fused Map Cache: false
Extent:
XMin: 117767.43880010932
YMin: 4093159.0522971638
XMax: 457267.4388001093
YMax: 4712659.052297164
Spatial Reference: 26916
(26916)
Initial Extent:
XMin: 117767.43880010932
YMin: 4093159.0522971638
XMax: 457267.4388001093
YMax: 4712659.052297164
Spatial Reference: 26916
(26916)
Full Extent:
XMin: 117767.43880010932
YMin: 4093159.0522971638
XMax: 457267.4388001093
YMax: 4712659.052297164
Spatial Reference: 26916
(26916)
Pixel Size X: 500.0
Pixel Size Y: 500.0
Band Count: 1
Pixel Type: F32
RasterFunction Infos: {"rasterFunctionInfos": [{
"name": "None",
"description": "",
"help": ""
}]}
Mensuration Capabilities: Basic
Has Histograms: true
Has Colormap: false
Has Multi Dimensions : false
Rendering Rule:
Min Scale: 0
Max Scale: 0
Copyright Text:
Service Data Type: esriImageServiceDataTypeGeneric
Min Values: 0
Max Values: 2628.9130859375
Mean Values: 1274.9293785219459
Standard Deviation Values: 798.2136061779406
Object ID Field:
Fields:
None
Default Mosaic Method: Center
Allowed Mosaic Methods:
SortField:
SortValue: null
Mosaic Operator: First
Default Compression Quality: 75
Default Resampling Method: Bilinear
Max Record Count: null
Max Image Height: 4100
Max Image Width: 15000
Max Download Image Count: null
Max Mosaic Image Count: null
Allow Raster Function: true
Allow Copy: true
Allow Analysis: true
Allow Compute TiePoints: false
Supports Statistics: false
Supports Advanced Queries: false
Use StandardizedQueries: true
Raster Type Infos:
Name: Raster Dataset
Description: Supports all ArcGIS Raster Datasets
Help:
Has Raster Attribute Table: false
Edit Fields Info: null
Ownership Based AccessControl For Rasters: null
Child Resources:
Info
Histograms
Statistics
Key Properties
Legend
Raster Function Infos
Supported Operations:
Export Image
Identify
Measure
Compute Histograms
Compute Statistics Histograms
Get Samples
Compute Class Statistics
Query Boundary
Compute Pixel Location
Validate
Project