{ "currentVersion": 10.9, "serviceDescription": "
The Illinois Archaeological Predictive Model (IAPM) is a GIS-based tool developed by the Illinois State Archaeological Survey (ISAS), part of the Prairie Research Institute at the University of Illinois at Urbana-Champaign. The model builds on over a century of archaeological work in Illinois, and considers the known locations of precontact Native American sites, landforms that lack archaeological sites, and other environmental and geophysical variables such as elevation, distance to rivers and streams, and native vegetation. Data sampled from these locations are analyzed via GIS (Geographic Information Systems) and fed into a TensorFlow neural network (a machine learning algorithm) to predict the probability of encountering an archaeological site in every two acre square (90 x 90 meter cells) across the state.<\/SPAN><\/P> ISAS and other interested stakeholders use the IAPM to help protect, preserve, and assess the potential impact to irreplaceable and non-renewable archaeological resources within the context of Illinois\u2019 need to encourage and promote sustainable development. Using the IAPM helps archaeologists prioritize time and resources during surveys, and allows us to make recommendations that prevent or mitigate impacts to the archaeological record. It also has the potential to enable ordinary citizens, managers, developers, and preservationists to become proactive planners when it comes to the archaeological resources of Illinois.<\/SPAN><\/P> Version 3.6 of the IAPM (2025). For more information, visit https://www.isas.illinois.edu/office_of_the_illinois_state_archaeologist/illinois_archaeological_predictive_model<\/SPAN><\/P> <\/P><\/DIV><\/DIV><\/DIV>",
"name": "ISAS/IAPM_probability_reclass",
"description": " The Illinois Archaeological Predictive Model (IAPM) is a GIS-based tool developed by the Illinois State Archaeological Survey (ISAS), part of the Prairie Research Institute at the University of Illinois at Urbana-Champaign. The model builds on over a century of archaeological work in Illinois, and considers the known locations of precontact Native American sites, landforms that lack archaeological sites, and other environmental and geophysical variables such as elevation, distance to rivers and streams, and native vegetation. Data sampled from these locations are analyzed via GIS (Geographic Information Systems) and fed into a TensorFlow neural network (a machine learning algorithm) to predict the probability of encountering an archaeological site in every two acre square (90 x 90 meter cells) across the state.<\/SPAN><\/P> ISAS and other interested stakeholders use the IAPM to help protect, preserve, and assess the potential impact to irreplaceable and non-renewable archaeological resources within the context of Illinois\u2019 need to encourage and promote sustainable development. Using the IAPM helps archaeologists prioritize time and resources during surveys, and allows us to make recommendations that prevent or mitigate impacts to the archaeological record. It also has the potential to enable ordinary citizens, managers, developers, and preservationists to become proactive planners when it comes to the archaeological resources of Illinois.<\/SPAN><\/P> Version 3.6 of the IAPM (2025). For more information, visit https://www.isas.illinois.edu/office_of_the_illinois_state_archaeologist/illinois_archaeological_predictive_model<\/SPAN><\/P> <\/P><\/DIV><\/DIV><\/DIV>",
"extent": {
"xmin": 626518.29984953,
"ymin": 4098399.80047975,
"xmax": 978508.29984953,
"ymax": 4717599.80047975,
"spatialReference": {
"wkid": 26915,
"latestWkid": 26915
}
},
"initialExtent": {
"xmin": 626518.29984953,
"ymin": 4098399.80047975,
"xmax": 978508.29984953,
"ymax": 4717599.80047975,
"spatialReference": {
"wkid": 26915,
"latestWkid": 26915
}
},
"fullExtent": {
"xmin": 626518.29984953,
"ymin": 4098399.80047975,
"xmax": 978508.29984953,
"ymax": 4717599.80047975,
"spatialReference": {
"wkid": 26915,
"latestWkid": 26915
}
},
"hasMultidimensions": false,
"pixelSizeX": 90,
"pixelSizeY": 90,
"datasetFormat": "TIFF",
"uncompressedSize": 13453840,
"blockWidth": 128,
"blockHeight": 128,
"compressionType": "LZW",
"bandNames": [
"Band_1"
],
"allowCopy": true,
"allowAnalysis": true,
"bandCount": 1,
"noDataValue": 15,
"noDataValues": [
15
],
"pixelType": "U4",
"minPixelSize": 0,
"maxPixelSize": 0,
"copyrightText": "",
"serviceDataType": "esriImageServiceDataTypeGeneric",
"serviceSourceType": "esriImageServiceSourceTypeDataset",
"minValues": [
1
],
"maxValues": [
4
],
"meanValues": [
1.8417988197006
],
"stdvValues": [
1.2090433347588
],
"objectIdField": "",
"fields": [],
"capabilities": "Image,Metadata,Mensuration",
"defaultMosaicMethod": "Center",
"allowedMosaicMethods": "",
"sortField": "",
"sortValue": null,
"sortAscending": true,
"mosaicOperator": "First",
"defaultCompressionQuality": 75,
"defaultResamplingMethod": "Bilinear",
"maxImageHeight": 4100,
"maxImageWidth": 15000,
"allowRasterFunction": true,
"rasterFunctionInfos": [
{
"name": "None",
"description": "",
"help": ""
}
],
"rasterTypeInfos": [
{
"name": "Raster Dataset",
"description": "Supports all ArcGIS Raster Datasets",
"help": ""
}
],
"mensurationCapabilities": "Basic",
"hasHistograms": true,
"hasColormap": false,
"hasRasterAttributeTable": true,
"minScale": 0,
"maxScale": 0,
"exportTilesAllowed": false,
"supportsStatistics": false,
"supportsAdvancedQueries": false,
"editFieldsInfo": null,
"ownershipBasedAccessControlForRasters": null,
"allowComputeTiePoints": false,
"useStandardizedQueries": true,
"advancedQueryCapabilities": {
"useStandardizedQueries": true,
"supportsStatistics": false,
"supportsOrderBy": false,
"supportsDistinct": false,
"supportsPagination": false
},
"spatialReference": {
"wkid": 26915,
"latestWkid": 26915
}
}